BEGIN:VCALENDAR
VERSION:2.0
METHOD:PUBLISH
PRODID:Wuppertal-Live ICal v9.0 R38/39
BEGIN:VEVENT
CLASS:PUBLIC
DESCRIPTION:weitere Termininfos und Ticketbuchung unter https://www.koelnbo
 nn-live.de/ical/633826 
DTEND;TZID=Europe/Berlin:20260712T170000
DTSTAMP:20260421T104451Z
DTSTART;TZID=Europe/Berlin:20260712T090000
LOCATION:Bonn - Haus der Geschichte und Demokratieweg\, Willy-Brandt-Allee 
 14\,  5311 Bonn
PRIORITY:5
SEQUENCE:0
SUMMARY:Bürgerstiftung Wülfrath -- Demokratie zum Anfassen: Bürgerstiftu
 ng Wülfrath setzt Jahresschwerpunkt
TRANSP:OPAQUE
UID:633826:www.koelnbonn-live.de
URL:https://www.koelnbonn-live.de/ical/633826
END:VEVENT
END:VCALENDAR
