BEGIN:VCALENDAR
VERSION:2.0
METHOD:PUBLISH
PRODID:Wuppertal-Live ICal v9.0 R38/39
BEGIN:VEVENT
CLASS:PUBLIC
DESCRIPTION:weitere Termininfos unter https://www.koelnbonn-live.de/ical/59
 1845 
DTEND;TZID=Europe/Berlin:20261114T213000
DTSTAMP:20260419T125423Z
DTSTART;TZID=Europe/Berlin:20261114T193000
LOCATION:Pantheon\, Siegburger Str. 42\, 53229 Bonn
PRIORITY:5
SEQUENCE:0
SUMMARY:Blind Dates bei EMMVEE -- Ein Blind Date mit EMMVEE als Wing Man - 
 Die krasseste Live-Experience\, seit es Dating gibt!
TRANSP:OPAQUE
UID:591845:www.koelnbonn-live.de
URL:https://www.koelnbonn-live.de/ical/591845
END:VEVENT
END:VCALENDAR
